BEGIN:VCALENDAR
VERSION:2.0
PRODID:-//Concepcionistas - ECPv5.9.1//NONSGML v1.0//EN
CALSCALE:GREGORIAN
METHOD:PUBLISH
X-WR-CALNAME:Concepcionistas
X-ORIGINAL-URL:https://concepcionistas.com
X-WR-CALDESC:Eventos para Concepcionistas
BEGIN:VTIMEZONE
TZID:UTC
BEGIN:STANDARD
TZOFFSETFROM:+0000
TZOFFSETTO:+0000
TZNAME:UTC
DTSTART:20220101T000000
END:STANDARD
END:VTIMEZONE
BEGIN:VEVENT
DTSTART;TZID=UTC:20220211T000000
DTEND;TZID=UTC:20220211T235900
DTSTAMP:20260422T190618
CREATED:20220121T110310Z
LAST-MODIFIED:20220125T090131Z
UID:11451-1644537600-1644623940@concepcionistas.com
SUMMARY:Virgen de Lourdes- Jornada Mundial del Enfermo
DESCRIPTION:
URL:https://concepcionistas.com/event/virgen-de-lourdes-jornada-mundial-del-enfermo/
END:VEVENT
END:VCALENDAR