BEGIN:VCALENDAR
VERSION:2.0
PRODID:-//Concepcionistas - ECPv5.9.1//NONSGML v1.0//EN
CALSCALE:GREGORIAN
METHOD:PUBLISH
X-WR-CALNAME:Concepcionistas
X-ORIGINAL-URL:https://concepcionistas.com
X-WR-CALDESC:Eventos para Concepcionistas
BEGIN:VTIMEZONE
TZID:UTC
BEGIN:STANDARD
TZOFFSETFROM:+0000
TZOFFSETTO:+0000
TZNAME:UTC
DTSTART:20210101T000000
END:STANDARD
END:VTIMEZONE
BEGIN:VEVENT
DTSTART;VALUE=DATE:20211121
DTEND;VALUE=DATE:20211122
DTSTAMP:20260424T085313
CREATED:20211015T104824Z
LAST-MODIFIED:20211015T105112Z
UID:10904-1637452800-1637539199@concepcionistas.com
SUMMARY:Presentación de María en el Templo
DESCRIPTION:
URL:https://concepcionistas.com/event/presentacion-de-maria-en-el-templo/
ATTACH;FMTTYPE=image/jpeg:https://concepcionistas.com/wp-content/uploads/2021/10/Cima_da_conegliano_presentazione_della_vergine.jpg
END:VEVENT
END:VCALENDAR