BEGIN:VCALENDAR
VERSION:2.0
PRODID:-//Concepcionistas - ECPv5.9.1//NONSGML v1.0//EN
CALSCALE:GREGORIAN
METHOD:PUBLISH
X-WR-CALNAME:Concepcionistas
X-ORIGINAL-URL:https://concepcionistas.com
X-WR-CALDESC:Eventos para Concepcionistas
BEGIN:VTIMEZONE
TZID:UTC
BEGIN:STANDARD
TZOFFSETFROM:+0000
TZOFFSETTO:+0000
TZNAME:UTC
DTSTART:20210101T000000
END:STANDARD
END:VTIMEZONE
BEGIN:VEVENT
DTSTART;VALUE=DATE:20211225
DTEND;VALUE=DATE:20211226
DTSTAMP:20260422T122300
CREATED:20211015T110809Z
LAST-MODIFIED:20211015T110809Z
UID:10911-1640390400-1640476799@concepcionistas.com
SUMMARY:NAVIDAD
DESCRIPTION:
URL:https://concepcionistas.com/event/navidad/
ATTACH;FMTTYPE=image/jpeg:https://concepcionistas.com/wp-content/uploads/2021/10/Pesebre-navideno-1000x600-1.jpg
END:VEVENT
END:VCALENDAR