BEGIN:VCALENDAR
VERSION:2.0
PRODID:-//Concepcionistas - ECPv5.9.1//NONSGML v1.0//EN
CALSCALE:GREGORIAN
METHOD:PUBLISH
X-WR-CALNAME:Concepcionistas
X-ORIGINAL-URL:https://concepcionistas.com
X-WR-CALDESC:Eventos para Concepcionistas
BEGIN:VTIMEZONE
TZID:UTC
BEGIN:STANDARD
TZOFFSETFROM:+0000
TZOFFSETTO:+0000
TZNAME:UTC
DTSTART:20220101T000000
END:STANDARD
END:VTIMEZONE
BEGIN:VEVENT
DTSTART;TZID=UTC:20221024T080000
DTEND;TZID=UTC:20221024T170000
DTSTAMP:20260422T143615
CREATED:20220121T115326Z
LAST-MODIFIED:20220121T115326Z
UID:11487-1666598400-1666630800@concepcionistas.com
SUMMARY:Día Mundial Contra el Cambio Climático
DESCRIPTION:
URL:https://concepcionistas.com/event/dia-mundial-contra-el-cambio-climatico/
END:VEVENT
END:VCALENDAR