BEGIN:VCALENDAR
VERSION:2.0
PRODID:-//Concepcionistas - ECPv5.9.1//NONSGML v1.0//EN
CALSCALE:GREGORIAN
METHOD:PUBLISH
X-WR-CALNAME:Concepcionistas
X-ORIGINAL-URL:https://concepcionistas.com
X-WR-CALDESC:Eventos para Concepcionistas
BEGIN:VTIMEZONE
TZID:UTC
BEGIN:STANDARD
TZOFFSETFROM:+0000
TZOFFSETTO:+0000
TZNAME:UTC
DTSTART:20220101T000000
END:STANDARD
END:VTIMEZONE
BEGIN:VEVENT
DTSTART;VALUE=DATE:20220130
DTEND;VALUE=DATE:20220131
DTSTAMP:20260422T141634
CREATED:20220121T110011Z
LAST-MODIFIED:20220121T110011Z
UID:11449-1643500800-1643587199@concepcionistas.com
SUMMARY:Día escolar de la Paz Y la no violencia
DESCRIPTION:
URL:https://concepcionistas.com/event/dia-escolar-de-la-paz-y-la-no-violencia/
END:VEVENT
END:VCALENDAR