BEGIN:VCALENDAR
VERSION:2.0
PRODID:-//Concepcionistas - ECPv5.9.1//NONSGML v1.0//EN
CALSCALE:GREGORIAN
METHOD:PUBLISH
X-WR-CALNAME:Concepcionistas
X-ORIGINAL-URL:https://concepcionistas.com
X-WR-CALDESC:Eventos para Concepcionistas
BEGIN:VTIMEZONE
TZID:UTC
BEGIN:STANDARD
TZOFFSETFROM:+0000
TZOFFSETTO:+0000
TZNAME:UTC
DTSTART:20210101T000000
END:STANDARD
END:VTIMEZONE
BEGIN:VEVENT
DTSTART;VALUE=DATE:20211208
DTEND;VALUE=DATE:20211209
DTSTAMP:20260422T111459
CREATED:20211015T104202Z
LAST-MODIFIED:20211015T110855Z
UID:10902-1638921600-1639007999@concepcionistas.com
SUMMARY:8 Día de la Inmaculada Concepción. *En 1892 Hábito Azul y Blanco por 1ºvez
DESCRIPTION:
URL:https://concepcionistas.com/event/8-dia-de-la-inmaculada-concepcion-en-1892-habito-azul-y-blanco-por-1ovez/
ATTACH;FMTTYPE=image/jpeg:https://concepcionistas.com/wp-content/uploads/2021/10/Imagen-266.jpg
END:VEVENT
END:VCALENDAR