BEGIN:VCALENDAR
VERSION:2.0
PRODID:-//Concepcionistas - ECPv5.9.1//NONSGML v1.0//EN
CALSCALE:GREGORIAN
METHOD:PUBLISH
X-WR-CALNAME:Concepcionistas
X-ORIGINAL-URL:https://concepcionistas.com
X-WR-CALDESC:Events for Concepcionistas
BEGIN:VTIMEZONE
TZID:UTC
BEGIN:STANDARD
TZOFFSETFROM:+0000
TZOFFSETTO:+0000
TZNAME:UTC
DTSTART:20210101T000000
END:STANDARD
END:VTIMEZONE
BEGIN:VEVENT
DTSTART;VALUE=DATE:20211206
DTEND;VALUE=DATE:20211207
DTSTAMP:20260422T162743
CREATED:20211015T103841Z
LAST-MODIFIED:20211015T103841Z
UID:10900-1638748800-1638835199@concepcionistas.com
SUMMARY:6 Día de Carmen Sallés y  Día del MLC
DESCRIPTION:
URL:https://concepcionistas.com/event/6-dia-de-carmen-salles-y-dia-del-mlc/
ATTACH;FMTTYPE=image/jpeg:https://concepcionistas.com/wp-content/uploads/2021/08/C-Salles-2.jpg
END:VEVENT
END:VCALENDAR